BEGIN:VCALENDAR
VERSION:2.0
PRODID:-//Advanced Accounting - ECPv4.7.2//NONSGML v1.0//EN
CALSCALE:GREGORIAN
METHOD:PUBLISH
X-WR-CALNAME:Advanced Accounting
X-ORIGINAL-URL:https://advancedaccounting.co.nz
X-WR-CALDESC:Events for Advanced Accounting
BEGIN:VEVENT
DTSTART;TZID=UTC+12:20180824T160000
DTEND;TZID=UTC+12:20180824T180000
DTSTAMP:20181221T213450
CREATED:20180817T005343Z
LAST-MODIFIED:20180817T010946Z
UID:6716-1535126400-1535133600@advancedaccounting.co.nz
SUMMARY:Facebook for Business with Natalie Rowney
DESCRIPTION:Heaps of information about the event \nRSVP today\n\n\n\n\n\n\n\n\n\n\n\n Name*\n      \n Email*\n      \n Company*\n      \n \n \n
URL:https://advancedaccounting.co.nz/event/facebook-for-business/
LOCATION:The Manawatu Golf Club\, 19 Centennial Drive\, Palmerston North\, 4410\, New Zealand
ATTACH;FMTTYPE=image/jpeg:https://advancedaccounting.co.nz/wp-content/uploads/2018/08/Capture-1-e1534467163818.jpg
END:VEVENT
END:VCALENDAR